BEGIN:VCALENDAR
VERSION:2.0
PRODID:-//Indianapolis Latvian Community Center - ECPv6.15.20//NONSGML v1.0//EN
CALSCALE:GREGORIAN
METHOD:PUBLISH
X-ORIGINAL-URL:https://indianapolislatviancenter.org/lv
X-WR-CALDESC:Events for Indianapolis Latvian Community Center
REFRESH-INTERVAL;VALUE=DURATION:PT1H
X-Robots-Tag:noindex
X-PUBLISHED-TTL:PT1H
BEGIN:VTIMEZONE
TZID:America/Indiana/Indianapolis
BEGIN:DAYLIGHT
TZOFFSETFROM:-0500
TZOFFSETTO:-0400
TZNAME:EDT
DTSTART:20220313T070000
END:DAYLIGHT
BEGIN:STANDARD
TZOFFSETFROM:-0400
TZOFFSETTO:-0500
TZNAME:EST
DTSTART:20221106T060000
END:STANDARD
BEGIN:DAYLIGHT
TZOFFSETFROM:-0500
TZOFFSETTO:-0400
TZNAME:EDT
DTSTART:20230312T070000
END:DAYLIGHT
BEGIN:STANDARD
TZOFFSETFROM:-0400
TZOFFSETTO:-0500
TZNAME:EST
DTSTART:20231105T060000
END:STANDARD
BEGIN:DAYLIGHT
TZOFFSETFROM:-0500
TZOFFSETTO:-0400
TZNAME:EDT
DTSTART:20240310T070000
END:DAYLIGHT
BEGIN:STANDARD
TZOFFSETFROM:-0400
TZOFFSETTO:-0500
TZNAME:EST
DTSTART:20241103T060000
END:STANDARD
BEGIN:DAYLIGHT
TZOFFSETFROM:-0500
TZOFFSETTO:-0400
TZNAME:EDT
DTSTART:20250309T070000
END:DAYLIGHT
BEGIN:STANDARD
TZOFFSETFROM:-0400
TZOFFSETTO:-0500
TZNAME:EST
DTSTART:20251102T060000
END:STANDARD
END:VTIMEZONE
BEGIN:VEVENT
DTSTART;TZID=America/Indiana/Indianapolis:20240413T110000
DTEND;TZID=America/Indiana/Indianapolis:20240413T150000
DTSTAMP:20260423T144138
CREATED:20240405T160738Z
LAST-MODIFIED:20240405T161103Z
UID:2050-1713006000-1713020400@indianapolislatviancenter.org
SUMMARY:Pilnsapulce
DESCRIPTION:LSC pilnsapulce paredzēta sestdien\, 13. aprīlī\, pulksten 11:00. \n\n\n\n\n\n\n\n\n\n2023-VestnesisDownload
URL:https://indianapolislatviancenter.org/lv/calendar/pilnsapulce/
END:VEVENT
BEGIN:VEVENT
DTSTART;TZID=America/Indiana/Indianapolis:20231216T100000
DTEND;TZID=America/Indiana/Indianapolis:20231216T140000
DTSTAMP:20260423T144138
CREATED:20231102T165943Z
LAST-MODIFIED:20231102T165944Z
UID:1996-1702720800-1702735200@indianapolislatviancenter.org
SUMMARY:CHRISTMAS BAZAAR
DESCRIPTION:Once again it is time for our annual Christmas Bazaar! \n\n\n\n\n\n\n\nCome to the Indianapolis Latvian Community Center\, December 16th\, and discover a diversity of gifts and delicious food.Some of the other things you will find include: collectibles\, dolls\, pillows\, garments\, clothing\, collectibles\, jewelry\, and music! \n\n\n\nThis is a FREE EVENT!
URL:https://indianapolislatviancenter.org/lv/calendar/christmas-bazaar/
LOCATION:Indianapolis Latvian Community Center\, 1008 West 64th Street\, Indianapolis\, 46260\, United States
CATEGORIES:Bazaar
END:VEVENT
BEGIN:VEVENT
DTSTART;TZID=America/Indiana/Indianapolis:20231118T170000
DTEND;TZID=America/Indiana/Indianapolis:20231118T170000
DTSTAMP:20260423T144138
CREATED:20231102T164022Z
LAST-MODIFIED:20231103T005052Z
UID:1993-1700326800-1700326800@indianapolislatviancenter.org
SUMMARY:Celebrate Latvian Independence Day!
DESCRIPTION:You are welcome to come celebration Latvian Independence Day with the Indianapolis Latvian Community Center!  \n\n\n\n5pm – 6pm cocktails \n\n\n\n6pm – will begin with official speeches on Latvian Independence \n\n\n\nLater there will be Latvian dancers\, singers and more! \n\n\n\nLearn more > Latvian Independence Day (18 Nov 1918) & History
URL:https://indianapolislatviancenter.org/lv/calendar/celebrate-latvian-independence-day/
LOCATION:Indianapolis Latvian Community Center\, 1008 West 64th Street\, Indianapolis\, 46260\, United States
CATEGORIES:Celebration
END:VEVENT
BEGIN:VEVENT
DTSTART;TZID=America/Indiana/Indianapolis:20230701T000000
DTEND;TZID=America/Indiana/Indianapolis:20230701T235959
DTSTAMP:20260423T144138
CREATED:20230804T194709Z
LAST-MODIFIED:20231006T160559Z
UID:1770-1688169600-1688255999@indianapolislatviancenter.org
SUMMARY:Midsommer Festival
DESCRIPTION:
URL:https://indianapolislatviancenter.org/lv/calendar/midsommer-festival/
END:VEVENT
BEGIN:VEVENT
DTSTART;TZID=America/Indiana/Indianapolis:20230422T160000
DTEND;TZID=America/Indiana/Indianapolis:20230422T233000
DTSTAMP:20260423T144138
CREATED:20230201T224937Z
LAST-MODIFIED:20230201T225445Z
UID:1703-1682179200-1682206200@indianapolislatviancenter.org
SUMMARY:Spring Event
DESCRIPTION:Concert\, dinner\, dancing\, drinking.
URL:https://indianapolislatviancenter.org/lv/calendar/spring-event/
END:VEVENT
END:VCALENDAR